Package: adductData Version: 1.26.0 Command: /home/biocbuild/bbs-3.22-bioc/R/bin/R CMD build --keep-empty-dirs --no-resave-data adductData StartedAt: 2025-11-06 11:07:25 -0500 (Thu, 06 Nov 2025) EndedAt: 2025-11-06 11:07:39 -0500 (Thu, 06 Nov 2025) EllapsedTime: 14.4 seconds RetCode: 0 Status: OK PackageFile: adductData_1.26.0.tar.gz PackageFileSize: 7.576 KiB