Package: WGSmapp Version: 1.22.0 Command: /home/biocbuild/bbs-3.22-bioc/R/bin/R CMD INSTALL WGSmapp StartedAt: 2025-11-06 10:57:50 -0500 (Thu, 06 Nov 2025) EndedAt: 2025-11-06 10:58:34 -0500 (Thu, 06 Nov 2025) EllapsedTime: 43.4 seconds RetCode: 0 Status: OK