Package: WES.1KG.WUGSC Version: 1.42.0 Command: /home/biocbuild/bbs-3.22-bioc/R/bin/R CMD INSTALL WES.1KG.WUGSC StartedAt: 2025-11-20 10:56:04 -0500 (Thu, 20 Nov 2025) EndedAt: 2025-11-20 10:56:18 -0500 (Thu, 20 Nov 2025) EllapsedTime: 13.6 seconds RetCode: 0 Status: OK