Package: VectraPolarisData Version: 1.14.0 Command: /home/biocbuild/bbs-3.22-bioc/R/bin/R CMD check --install=check:VectraPolarisData.install-out.txt --library=/home/biocbuild/bbs-3.22-bioc/R/site-library --timings VectraPolarisData_1.14.0.tar.gz StartedAt: 2025-11-06 13:15:01 -0500 (Thu, 06 Nov 2025) EndedAt: 2025-11-06 13:19:47 -0500 (Thu, 06 Nov 2025) EllapsedTime: 286.7 seconds RetCode: 0 Status: OK CheckDir: VectraPolarisData.Rcheck Warnings: 0