Package: VariantToolsData Version: 1.34.0 Command: /home/biocbuild/bbs-3.22-bioc/R/bin/R CMD INSTALL VariantToolsData StartedAt: 2025-11-06 11:03:37 -0500 (Thu, 06 Nov 2025) EndedAt: 2025-11-06 11:04:14 -0500 (Thu, 06 Nov 2025) EllapsedTime: 36.4 seconds RetCode: 0 Status: OK