Package: VariantToolsData Version: 1.34.0 Command: /home/biocbuild/bbs-3.22-bioc/R/bin/R CMD check --install=check:VariantToolsData.install-out.txt --library=/home/biocbuild/bbs-3.22-bioc/R/site-library --timings VariantToolsData_1.34.0.tar.gz StartedAt: 2025-11-06 13:14:54 -0500 (Thu, 06 Nov 2025) EndedAt: 2025-11-06 13:19:04 -0500 (Thu, 06 Nov 2025) EllapsedTime: 250.3 seconds RetCode: 0 Status: OK CheckDir: VariantToolsData.Rcheck Warnings: 0