Package: VariantToolsData Version: 1.34.0 Command: /home/biocbuild/bbs-3.22-bioc/R/bin/R CMD build --keep-empty-dirs --no-resave-data VariantToolsData StartedAt: 2025-11-06 11:47:49 -0500 (Thu, 06 Nov 2025) EndedAt: 2025-11-06 11:48:42 -0500 (Thu, 06 Nov 2025) EllapsedTime: 52.3 seconds RetCode: 0 Status: OK PackageFile: VariantToolsData_1.34.0.tar.gz PackageFileSize: 200.7 MiB