Package: TumourMethData Version: 1.8.0 Command: /home/biocbuild/bbs-3.22-bioc/R/bin/R CMD INSTALL TumourMethData StartedAt: 2025-11-06 10:58:07 -0500 (Thu, 06 Nov 2025) EndedAt: 2025-11-06 10:58:34 -0500 (Thu, 06 Nov 2025) EllapsedTime: 26.5 seconds RetCode: 0 Status: OK