Package: TumourMethData Version: 1.8.0 Command: /home/biocbuild/bbs-3.22-bioc/R/bin/R CMD build --keep-empty-dirs --no-resave-data TumourMethData StartedAt: 2025-11-06 11:47:27 -0500 (Thu, 06 Nov 2025) EndedAt: 2025-11-06 11:48:12 -0500 (Thu, 06 Nov 2025) EllapsedTime: 44.3 seconds RetCode: 0 Status: OK PackageFile: TumourMethData_1.8.0.tar.gz PackageFileSize: 20.63 KiB