Package: TransOmicsData Version: 1.6.0 Maintainer: Di Xiao MaintainerEmail: d.xiao at sydney.edu.au git_url: https://git.bioconductor.org/packages/TransOmicsData git_branch: RELEASE_3_22 git_last_commit: 848dce3 git_last_commit_date: 2025-10-29 10:06:24 -0500 (Wed, 29 Oct 2025)