Package: TimerQuant Version: 1.40.0 Command: /home/biocbuild/bbs-3.22-bioc/R/bin/R CMD INSTALL TimerQuant StartedAt: 2025-11-06 10:56:24 -0500 (Thu, 06 Nov 2025) EndedAt: 2025-11-06 10:56:30 -0500 (Thu, 06 Nov 2025) EllapsedTime: 5.7 seconds RetCode: 0 Status: OK