Package: TimerQuant Version: 1.40.0 Command: /home/biocbuild/bbs-3.22-bioc/R/bin/R CMD build --keep-empty-dirs --no-resave-data TimerQuant StartedAt: 2025-11-06 11:46:34 -0500 (Thu, 06 Nov 2025) EndedAt: 2025-11-06 11:46:45 -0500 (Thu, 06 Nov 2025) EllapsedTime: 11.0 seconds RetCode: 1 Status: ERROR PackageFile: None PackageFileSize: NA