Package: TargetScoreData Version: 1.46.0 Command: /home/biocbuild/bbs-3.22-bioc/R/bin/R CMD INSTALL TargetScoreData StartedAt: 2025-11-06 10:55:29 -0500 (Thu, 06 Nov 2025) EndedAt: 2025-11-06 10:55:31 -0500 (Thu, 06 Nov 2025) EllapsedTime: 2.2 seconds RetCode: 0 Status: OK