Package: TabulaMurisSenisData Version: 1.16.0 Command: /home/biocbuild/bbs-3.22-bioc/R/bin/R CMD INSTALL TabulaMurisSenisData StartedAt: 2025-11-06 10:59:44 -0500 (Thu, 06 Nov 2025) EndedAt: 2025-11-06 11:00:13 -0500 (Thu, 06 Nov 2025) EllapsedTime: 29.4 seconds RetCode: 0 Status: OK