Package: TMExplorer Version: 1.20.0 Command: /home/biocbuild/bbs-3.22-bioc/R/bin/R CMD build --keep-empty-dirs --no-resave-data TMExplorer StartedAt: 2025-11-06 11:46:54 -0500 (Thu, 06 Nov 2025) EndedAt: 2025-11-06 11:47:41 -0500 (Thu, 06 Nov 2025) EllapsedTime: 47.2 seconds RetCode: 0 Status: OK PackageFile: TMExplorer_1.20.0.tar.gz PackageFileSize: 233.1 KiB