Package: TMExplorer Version: 1.18.0 Command: /home/biocbuild/bbs-3.21-bioc/R/bin/R CMD build --keep-empty-dirs --no-resave-data TMExplorer StartedAt: 2025-10-16 11:43:27 -0400 (Thu, 16 Oct 2025) EndedAt: 2025-10-16 11:44:13 -0400 (Thu, 16 Oct 2025) EllapsedTime: 46.5 seconds RetCode: 0 Status: OK PackageFile: TMExplorer_1.18.0.tar.gz PackageFileSize: 233.1 KiB