Package: TENxXeniumData Version: 1.6.0 Command: /home/biocbuild/bbs-3.22-bioc/R/bin/R CMD build --keep-empty-dirs --no-resave-data TENxXeniumData StartedAt: 2025-11-06 11:45:59 -0500 (Thu, 06 Nov 2025) EndedAt: 2025-11-06 11:48:37 -0500 (Thu, 06 Nov 2025) EllapsedTime: 157.7 seconds RetCode: 0 Status: OK PackageFile: TENxXeniumData_1.6.0.tar.gz PackageFileSize: 224.9 KiB