Package: TENxXeniumData Version: 1.4.0 Command: /home/biocbuild/bbs-3.21-bioc/R/bin/R CMD INSTALL TENxXeniumData StartedAt: 2025-10-16 11:04:13 -0400 (Thu, 16 Oct 2025) EndedAt: 2025-10-16 11:05:07 -0400 (Thu, 16 Oct 2025) EllapsedTime: 54.4 seconds RetCode: 0 Status: OK