Package: TENxXeniumData Version: 1.4.0 Command: /home/biocbuild/bbs-3.21-bioc/R/bin/R CMD build --keep-empty-dirs --no-resave-data TENxXeniumData StartedAt: 2025-10-16 11:42:48 -0400 (Thu, 16 Oct 2025) EndedAt: 2025-10-16 11:45:30 -0400 (Thu, 16 Oct 2025) EllapsedTime: 162.2 seconds RetCode: 0 Status: OK PackageFile: TENxXeniumData_1.4.0.tar.gz PackageFileSize: 224.9 KiB