Package: TENxVisiumData Version: 1.18.0 Command: /home/biocbuild/bbs-3.22-bioc/R/bin/R CMD INSTALL TENxVisiumData StartedAt: 2025-11-06 10:58:49 -0500 (Thu, 06 Nov 2025) EndedAt: 2025-11-06 10:59:19 -0500 (Thu, 06 Nov 2025) EllapsedTime: 29.8 seconds RetCode: 0 Status: OK