Package: TENxVisiumData Version: 1.18.0 Command: /home/biocbuild/bbs-3.22-bioc/R/bin/R CMD build --keep-empty-dirs --no-resave-data TENxVisiumData StartedAt: 2025-11-06 11:45:52 -0500 (Thu, 06 Nov 2025) EndedAt: 2025-11-06 11:46:54 -0500 (Thu, 06 Nov 2025) EllapsedTime: 61.8 seconds RetCode: 0 Status: OK PackageFile: TENxVisiumData_1.18.0.tar.gz PackageFileSize: 299.4 KiB