Package: TENxPBMCData Version: 1.28.0 Command: /home/biocbuild/bbs-3.22-bioc/R/bin/R CMD INSTALL TENxPBMCData StartedAt: 2025-11-06 10:58:51 -0500 (Thu, 06 Nov 2025) EndedAt: 2025-11-06 10:59:20 -0500 (Thu, 06 Nov 2025) EllapsedTime: 29.6 seconds RetCode: 0 Status: OK