Package: TENxBUSData Version: 1.24.0 Command: /home/biocbuild/bbs-3.22-bioc/R/bin/R CMD INSTALL TENxBUSData StartedAt: 2025-11-06 10:56:51 -0500 (Thu, 06 Nov 2025) EndedAt: 2025-11-06 10:57:04 -0500 (Thu, 06 Nov 2025) EllapsedTime: 13.4 seconds RetCode: 0 Status: OK