Package: TCGAcrcmiRNA Version: 1.30.0 Command: /home/biocbuild/bbs-3.22-bioc/R/bin/R CMD INSTALL TCGAcrcmiRNA StartedAt: 2025-11-06 10:56:06 -0500 (Thu, 06 Nov 2025) EndedAt: 2025-11-06 10:56:08 -0500 (Thu, 06 Nov 2025) EllapsedTime: 2.8 seconds RetCode: 0 Status: OK