Package: TCGAcrcmRNA Version: 1.28.0 Command: /home/biocbuild/bbs-3.21-bioc/R/bin/R CMD INSTALL TCGAcrcmRNA StartedAt: 2025-10-14 10:56:14 -0400 (Tue, 14 Oct 2025) EndedAt: 2025-10-14 10:56:16 -0400 (Tue, 14 Oct 2025) EllapsedTime: 2.3 seconds RetCode: 0 Status: OK