Package: TCGAcrcmRNA Version: 1.28.0 Command: /home/biocbuild/bbs-3.21-bioc/R/bin/R CMD build --keep-empty-dirs --no-resave-data TCGAcrcmRNA StartedAt: 2025-10-14 11:42:05 -0400 (Tue, 14 Oct 2025) EndedAt: 2025-10-14 11:42:15 -0400 (Tue, 14 Oct 2025) EllapsedTime: 9.8 seconds RetCode: 0 Status: OK PackageFile: TCGAcrcmRNA_1.28.0.tar.gz PackageFileSize: 35.3 MiB