Package: TCGAWorkflowData Version: 1.34.0 Command: /home/biocbuild/bbs-3.22-bioc/R/bin/R CMD INSTALL TCGAWorkflowData StartedAt: 2025-11-06 11:03:47 -0500 (Thu, 06 Nov 2025) EndedAt: 2025-11-06 11:04:48 -0500 (Thu, 06 Nov 2025) EllapsedTime: 60.5 seconds RetCode: 0 Status: OK