Package: TCGAWorkflowData Version: 1.34.0 Command: /home/biocbuild/bbs-3.22-bioc/R/bin/R CMD build --keep-empty-dirs --no-resave-data TCGAWorkflowData StartedAt: 2025-11-06 11:45:19 -0500 (Thu, 06 Nov 2025) EndedAt: 2025-11-06 11:47:50 -0500 (Thu, 06 Nov 2025) EllapsedTime: 150.9 seconds RetCode: 0 Status: OK PackageFile: TCGAWorkflowData_1.34.0.tar.gz PackageFileSize: 68.83 MiB