Package: SubcellularSpatialData Version: 1.6.0 Command: /home/biocbuild/bbs-3.22-bioc/R/bin/R CMD INSTALL SubcellularSpatialData StartedAt: 2025-11-06 11:02:18 -0500 (Thu, 06 Nov 2025) EndedAt: 2025-11-06 11:02:20 -0500 (Thu, 06 Nov 2025) EllapsedTime: 2.0 seconds RetCode: 0 Status: OK