Package: SubcellularSpatialData Version: 1.6.0 Command: /home/biocbuild/bbs-3.22-bioc/R/bin/R CMD check --install=check:SubcellularSpatialData.install-out.txt --library=/home/biocbuild/bbs-3.22-bioc/R/site-library --timings SubcellularSpatialData_1.6.0.tar.gz StartedAt: 2025-11-06 13:05:24 -0500 (Thu, 06 Nov 2025) EndedAt: 2025-11-06 13:07:08 -0500 (Thu, 06 Nov 2025) EllapsedTime: 103.8 seconds RetCode: 0 Status: OK CheckDir: SubcellularSpatialData.Rcheck Warnings: 0