Package: SpikeInSubset Version: 1.50.0 Command: /home/biocbuild/bbs-3.22-bioc/R/bin/R CMD INSTALL SpikeInSubset StartedAt: 2025-11-06 10:56:12 -0500 (Thu, 06 Nov 2025) EndedAt: 2025-11-06 10:56:17 -0500 (Thu, 06 Nov 2025) EllapsedTime: 5.3 seconds RetCode: 0 Status: OK