Package: SpikeInSubset Version: 1.48.0 Command: /home/biocbuild/bbs-3.21-bioc/R/bin/R CMD build --keep-empty-dirs --no-resave-data SpikeInSubset StartedAt: 2025-09-30 11:40:37 -0400 (Tue, 30 Sep 2025) EndedAt: 2025-09-30 11:40:41 -0400 (Tue, 30 Sep 2025) EllapsedTime: 3.6 seconds RetCode: 0 Status: OK PackageFile: SpikeInSubset_1.48.0.tar.gz PackageFileSize: 17.99 MiB