Package: SpikeIn Version: 1.52.0 Command: /home/biocbuild/bbs-3.22-bioc/R/bin/R CMD INSTALL SpikeIn StartedAt: 2025-11-06 10:56:09 -0500 (Thu, 06 Nov 2025) EndedAt: 2025-11-06 10:56:17 -0500 (Thu, 06 Nov 2025) EllapsedTime: 8.4 seconds RetCode: 0 Status: OK