Package: SpikeIn Version: 1.52.0 Maintainer: Robert D Shear MaintainerEmail: rshear at ds.dfci.harvard.edu git_url: https://git.bioconductor.org/packages/SpikeIn git_branch: RELEASE_3_22 git_last_commit: 9367cd3 git_last_commit_date: 2025-10-29 09:30:36 -0400 (Wed, 29 Oct 2025)