Package: SpatialDatasets Version: 1.8.0 Command: /home/biocbuild/bbs-3.22-bioc/R/bin/R CMD check --install=check:SpatialDatasets.install-out.txt --library=/home/biocbuild/bbs-3.22-bioc/R/site-library --timings SpatialDatasets_1.8.0.tar.gz StartedAt: 2025-11-06 13:04:15 -0500 (Thu, 06 Nov 2025) EndedAt: 2025-11-06 13:25:17 -0500 (Thu, 06 Nov 2025) EllapsedTime: 1262.3 seconds RetCode: 0 Status: WARNINGS CheckDir: SpatialDatasets.Rcheck Warnings: 3