Package: SpatialDatasets Version: 1.8.0 Command: /home/biocbuild/bbs-3.22-bioc/R/bin/R CMD build --keep-empty-dirs --no-resave-data SpatialDatasets StartedAt: 2025-11-06 11:43:22 -0500 (Thu, 06 Nov 2025) EndedAt: 2025-11-06 12:01:47 -0500 (Thu, 06 Nov 2025) EllapsedTime: 1104.7 seconds RetCode: 0 Status: OK PackageFile: SpatialDatasets_1.8.0.tar.gz PackageFileSize: 227.8 KiB