Package: SomaticCancerAlterations Version: 1.46.0 Command: /home/biocbuild/bbs-3.22-bioc/R/bin/R CMD INSTALL SomaticCancerAlterations StartedAt: 2025-11-06 10:57:50 -0500 (Thu, 06 Nov 2025) EndedAt: 2025-11-06 10:57:58 -0500 (Thu, 06 Nov 2025) EllapsedTime: 7.7 seconds RetCode: 0 Status: OK