Package: SomaticCancerAlterations Version: 1.44.0 Command: /home/biocbuild/bbs-3.21-bioc/R/bin/R CMD build --keep-empty-dirs --no-resave-data SomaticCancerAlterations StartedAt: 2025-10-02 11:40:53 -0400 (Thu, 02 Oct 2025) EndedAt: 2025-10-02 11:41:21 -0400 (Thu, 02 Oct 2025) EllapsedTime: 27.8 seconds RetCode: 0 Status: OK PackageFile: SomaticCancerAlterations_1.44.0.tar.gz PackageFileSize: 4.442 MiB