Package: SingleCellMultiModal Version: 1.22.0 Command: /home/biocbuild/bbs-3.22-bioc/R/bin/R CMD INSTALL SingleCellMultiModal StartedAt: 2025-11-06 10:58:59 -0500 (Thu, 06 Nov 2025) EndedAt: 2025-11-06 10:59:29 -0500 (Thu, 06 Nov 2025) EllapsedTime: 30.3 seconds RetCode: 0 Status: OK