Package: SingleCellMultiModal Version: 1.22.0 Command: /home/biocbuild/bbs-3.22-bioc/R/bin/R CMD check --install=check:SingleCellMultiModal.install-out.txt --library=/home/biocbuild/bbs-3.22-bioc/R/site-library --timings SingleCellMultiModal_1.22.0.tar.gz StartedAt: 2025-11-06 13:03:08 -0500 (Thu, 06 Nov 2025) EndedAt: 2025-11-06 13:14:06 -0500 (Thu, 06 Nov 2025) EllapsedTime: 657.6 seconds RetCode: 0 Status: OK CheckDir: SingleCellMultiModal.Rcheck Warnings: 0