Package: Single.mTEC.Transcriptomes Version: 1.38.0 Command: /home/biocbuild/bbs-3.22-bioc/R/bin/R CMD INSTALL Single.mTEC.Transcriptomes StartedAt: 2025-11-06 10:55:47 -0500 (Thu, 06 Nov 2025) EndedAt: 2025-11-06 10:55:50 -0500 (Thu, 06 Nov 2025) EllapsedTime: 2.2 seconds RetCode: 0 Status: OK