Package: Single.mTEC.Transcriptomes Version: 1.38.0 Command: /home/biocbuild/bbs-3.22-bioc/R/bin/R CMD check --install=check:Single.mTEC.Transcriptomes.install-out.txt --library=/home/biocbuild/bbs-3.22-bioc/R/site-library --timings Single.mTEC.Transcriptomes_1.38.0.tar.gz StartedAt: 2025-11-18 13:38:56 -0500 (Tue, 18 Nov 2025) EndedAt: 2025-11-18 13:47:22 -0500 (Tue, 18 Nov 2025) EllapsedTime: 506.6 seconds RetCode: 0 Status: OK CheckDir: Single.mTEC.Transcriptomes.Rcheck Warnings: 0