Package: SimBenchData Version: 1.18.0 Command: /home/biocbuild/bbs-3.22-bioc/R/bin/R CMD check --install=check:SimBenchData.install-out.txt --library=/home/biocbuild/bbs-3.22-bioc/R/site-library --timings SimBenchData_1.18.0.tar.gz StartedAt: 2025-11-06 13:02:10 -0500 (Thu, 06 Nov 2025) EndedAt: 2025-11-06 13:03:18 -0500 (Thu, 06 Nov 2025) EllapsedTime: 67.3 seconds RetCode: 0 Status: OK CheckDir: SimBenchData.Rcheck Warnings: 0