Package: SimBenchData Version: 1.18.0 Command: /home/biocbuild/bbs-3.22-bioc/R/bin/R CMD build --keep-empty-dirs --no-resave-data SimBenchData StartedAt: 2025-11-06 11:42:49 -0500 (Thu, 06 Nov 2025) EndedAt: 2025-11-06 11:43:10 -0500 (Thu, 06 Nov 2025) EllapsedTime: 21.0 seconds RetCode: 0 Status: OK PackageFile: SimBenchData_1.18.0.tar.gz PackageFileSize: 236 KiB