Package: STexampleData Version: 1.18.0 Command: /home/biocbuild/bbs-3.22-bioc/R/bin/R CMD INSTALL STexampleData StartedAt: 2025-11-06 10:58:47 -0500 (Thu, 06 Nov 2025) EndedAt: 2025-11-06 10:59:16 -0500 (Thu, 06 Nov 2025) EllapsedTime: 28.8 seconds RetCode: 0 Status: OK