Package: STexampleData Version: 1.18.0 Command: /home/biocbuild/bbs-3.22-bioc/R/bin/R CMD build --keep-empty-dirs --no-resave-data STexampleData StartedAt: 2025-11-06 11:43:46 -0500 (Thu, 06 Nov 2025) EndedAt: 2025-11-06 11:45:23 -0500 (Thu, 06 Nov 2025) EllapsedTime: 97.3 seconds RetCode: 0 Status: OK PackageFile: STexampleData_1.18.0.tar.gz PackageFileSize: 611.3 KiB