Package: SNPhoodData Version: 1.40.0 Command: /home/biocbuild/bbs-3.22-bioc/R/bin/R CMD build --keep-empty-dirs --no-resave-data SNPhoodData StartedAt: 2025-11-06 11:43:14 -0500 (Thu, 06 Nov 2025) EndedAt: 2025-11-06 11:43:32 -0500 (Thu, 06 Nov 2025) EllapsedTime: 18.5 seconds RetCode: 0 Status: OK PackageFile: SNPhoodData_1.40.0.tar.gz PackageFileSize: 233.5 MiB