Package: SNAGEEdata Version: 1.46.0 Command: /home/biocbuild/bbs-3.22-bioc/R/bin/R CMD INSTALL SNAGEEdata StartedAt: 2025-11-06 10:57:38 -0500 (Thu, 06 Nov 2025) EndedAt: 2025-11-06 10:57:40 -0500 (Thu, 06 Nov 2025) EllapsedTime: 2.0 seconds RetCode: 0 Status: OK