Package: SNAGEEdata Version: 1.46.0 Command: /home/biocbuild/bbs-3.22-bioc/R/bin/R CMD build --keep-empty-dirs --no-resave-data SNAGEEdata StartedAt: 2025-11-06 11:43:10 -0500 (Thu, 06 Nov 2025) EndedAt: 2025-11-06 11:43:13 -0500 (Thu, 06 Nov 2025) EllapsedTime: 3.0 seconds RetCode: 0 Status: OK PackageFile: SNAGEEdata_1.46.0.tar.gz PackageFileSize: 29.22 MiB