Package: SNAData Version: 1.56.0 Command: /home/biocbuild/bbs-3.22-bioc/R/bin/R CMD INSTALL SNAData StartedAt: 2025-11-06 10:56:21 -0500 (Thu, 06 Nov 2025) EndedAt: 2025-11-06 10:56:25 -0500 (Thu, 06 Nov 2025) EllapsedTime: 4.1 seconds RetCode: 0 Status: OK